BEGIN:VCALENDAR
VERSION:2.0
PRODID:-//ChamberMaster//Event Calendar 2.0//EN
METHOD:PUBLISH
X-PUBLISHED-TTL:P1H
REFRESH-INTERVAL:P1H
CALSCALE:GREGORIAN
BEGIN:VTIMEZONE
TZID:America/Chicago
BEGIN:DAYLIGHT
RRULE:FREQ=YEARLY;BYMONTH=3;BYDAY=2SU
DTSTART:20070101T000000
TZOFFSETFROM:-0600
TZOFFSETTO:-0500
TZNAME:Central Daylight Time
END:DAYLIGHT
BEGIN:STANDARD
RRULE:FREQ=YEARLY;BYMONTH=11;BYDAY=1SU
DTSTART:20070101T000000
TZOFFSETFROM:-0500
TZOFFSETTO:-0600
TZNAME:Central Standard Time
END:STANDARD
END:VTIMEZONE
BEGIN:VEVENT
DTSTART;TZID=America/Chicago:20260517T160000
DTEND;TZID=America/Chicago:20260517T180000
X-MICROSOFT-CDO-ALLDAYEVENT:FALSE
SUMMARY:Lupus Foundation of Arkansas presents Smooth Jazz Concert with Merlon Devine
DESCRIPTION:Join us for a night of smooth jazz and entertainment from 4 PM - 6 PM on Sunday\, May 17 at Space with Grace in Little Rock! Proceeds will help support lupus awareness and community impact with the Lupus Foundation
X-ALT-DESC;FMTTYPE=text/html:Join us for a night of smooth jazz and entertainment from 4 PM - 6 PM on Sunday\, May 17 at Space with Grace in Little Rock! Proceeds will help support lupus awareness and community impact with the Lupus Foundation
LOCATION:2005 Main St North Little Rock
UID:e.3445.1442855
SEQUENCE:3
DTSTAMP:20260421T121003Z
URL:https://business.hotspringschamber.com/eventcalendar/Details/lupus-foundation-of-arkansas-presents-smooth-jazz-concert-with-merlon-devine-1708981?sourceTypeId=Hub
END:VEVENT
END:VCALENDAR
