BEGIN:VCALENDAR
VERSION:2.0
PRODID:-//ChamberMaster//Event Calendar 2.0//EN
METHOD:PUBLISH
X-PUBLISHED-TTL:P1H
REFRESH-INTERVAL:P1H
CALSCALE:GREGORIAN
BEGIN:VTIMEZONE
TZID:America/Chicago
BEGIN:DAYLIGHT
RRULE:FREQ=YEARLY;BYMONTH=3;BYDAY=2SU
DTSTART:20070101T000000
TZOFFSETFROM:-0600
TZOFFSETTO:-0500
TZNAME:Central Daylight Time
END:DAYLIGHT
BEGIN:STANDARD
RRULE:FREQ=YEARLY;BYMONTH=11;BYDAY=1SU
DTSTART:20070101T000000
TZOFFSETFROM:-0500
TZOFFSETTO:-0600
TZNAME:Central Standard Time
END:STANDARD
END:VTIMEZONE
BEGIN:VEVENT
DTSTART;TZID=America/Chicago:20260427T100000
DTEND;TZID=America/Chicago:20260427T150000
X-MICROSOFT-CDO-ALLDAYEVENT:FALSE
SUMMARY:Lupus Foundation of AR Blood Drive
DESCRIPTION:Join us at the Greater Second Baptist Church of Little Rock on April 27th from 10 AM to 3 PM. Donate blood and get entered for a change to win a Branson getaway! Click on our website for more info and events: www.lupus4arkansas.com
X-ALT-DESC;FMTTYPE=text/html:<!DOCTYPE html><html><head><title></title></head><body aria-disabled="false"><p>Join us at the Greater Second Baptist Church of Little Rock on April 27th from 10 AM to 3 PM. Donate blood and get entered for a change to win a Branson getaway! Click on our website for more info and events: <a fr-original-style="user-select: auto\; font-family: Arial\; font-size: medium\; font-style: normal\; font-variant-ligatures: normal\; font-variant-caps: normal\; font-weight: 400\; letter-spacing: normal\; orphans: 2\; text-align: start\; text-indent: 0px\; text-transform: none\; widows: 2\; word-spacing: 0px\; -webkit-text-stroke-width: 0px\; white-space: normal\;" href="https://www.lupus4arkansas.com/" rel="noopener noreferrer" style="user-select: auto\; font-family: Arial\; font-size: medium\; font-style: normal\; font-variant-ligatures: normal\; font-variant-caps: normal\; font-weight: 400\; letter-spacing: normal\; orphans: 2\; text-align: start\; text-indent: 0px\; text-transform: none\; widows: 2\; word-spacing: 0px\; -webkit-text-stroke-width: 0px\; white-space: normal\;" target="_blank">www.lupus4arkansas.com</a></p></body></html>
LOCATION:5615 Geyer Springs Road Little Rock
UID:e.3445.1442799
SEQUENCE:3
DTSTAMP:20260421T121136Z
URL:https://business.hotspringschamber.com/eventcalendar/Details/lupus-foundation-of-ar-blood-drive-1708918?sourceTypeId=Hub
END:VEVENT
END:VCALENDAR
